BEGIN:VCALENDAR
VERSION:2.0
PRODID:-//Jesse Oaks Food &amp; Drink - ECPv6.15.20//NONSGML v1.0//EN
CALSCALE:GREGORIAN
METHOD:PUBLISH
X-WR-CALNAME:Jesse Oaks Food &amp; Drink
X-ORIGINAL-URL:https://www.jesseoaks.com
X-WR-CALDESC:Events for Jesse Oaks Food &amp; Drink
REFRESH-INTERVAL;VALUE=DURATION:PT1H
X-Robots-Tag:noindex
X-PUBLISHED-TTL:PT1H
BEGIN:VTIMEZONE
TZID:America/Chicago
BEGIN:DAYLIGHT
TZOFFSETFROM:-0600
TZOFFSETTO:-0500
TZNAME:CDT
DTSTART:20250309T080000
END:DAYLIGHT
BEGIN:STANDARD
TZOFFSETFROM:-0500
TZOFFSETTO:-0600
TZNAME:CST
DTSTART:20251102T070000
END:STANDARD
BEGIN:DAYLIGHT
TZOFFSETFROM:-0600
TZOFFSETTO:-0500
TZNAME:CDT
DTSTART:20260308T080000
END:DAYLIGHT
BEGIN:STANDARD
TZOFFSETFROM:-0500
TZOFFSETTO:-0600
TZNAME:CST
DTSTART:20261101T070000
END:STANDARD
BEGIN:DAYLIGHT
TZOFFSETFROM:-0600
TZOFFSETTO:-0500
TZNAME:CDT
DTSTART:20270314T080000
END:DAYLIGHT
BEGIN:STANDARD
TZOFFSETFROM:-0500
TZOFFSETTO:-0600
TZNAME:CST
DTSTART:20271107T070000
END:STANDARD
END:VTIMEZONE
BEGIN:VEVENT
DTSTART;TZID=America/Chicago:20260510T133000
DTEND;TZID=America/Chicago:20260510T173000
DTSTAMP:20260425T110906
CREATED:20250408T200100Z
LAST-MODIFIED:20260410T024749Z
UID:25898-1778419800-1778434200@www.jesseoaks.com
SUMMARY:Nashville Recording Artist Brecken Miles
DESCRIPTION:Miles brings a unique combination of original music blended with top country hits. He’s collaborated with renowned country artists as well as Nashville songwriters and producers. In addition\, he has played alongside county greats; Brad Paisley\, Blake Shelton\, Phil Vasser\, Big & Rich\, and Justin Moore\, to name a few. The beer garden will be open too! \nHe was the show opener for “New Country Music on Tap” artist Cam who performed in the Jesse Oaks Leinie Lodge in July 2016.  Come early for the H.D. Bloody Mary’s\, show starts around 1:30 pm.  \nThis show is FREE and open to the public.
URL:https://www.jesseoaks.com/event-calendar/nashville-recording-artist-brecken-miles-3/
LOCATION:Jesse Oaks\, Jesse Oaks\, 18490 W Old Gages Lake Rd\, Gages Lake\, IL\, 60030\, United States
CATEGORIES:Live Music,Public Event
ATTACH;FMTTYPE=image/jpeg:https://www.jesseoaks.com/wp-content/uploads/2025/04/Brecken-Miles-Event-.jpg
ORGANIZER;CN="Sean Smith":MAILTO:sean@jesseoaks.com
END:VEVENT
BEGIN:VEVENT
DTSTART;TZID=America/Chicago:20260503T133000
DTEND;TZID=America/Chicago:20260503T173000
DTSTAMP:20260425T110906
CREATED:20260401T205454Z
LAST-MODIFIED:20260410T025401Z
UID:27032-1777815000-1777829400@www.jesseoaks.com
SUMMARY:Odd Roots
DESCRIPTION: Odd Roots Live at Jesse Oaks \n\n\nPlaying music together since the youngest band member was just 4 years old\, Odd Roots is a unique father-daughter duo bringing heartfelt\, live acoustic music to the Jesse Oaks beer garden.\n\nThis show is FREE to the public | All ages welcome | Dog-friendly patio\nCome out\, grab a drink\, and enjoy a laid-back night under the oaks with live music and good company.
URL:https://www.jesseoaks.com/event-calendar/odd-roots/
LOCATION:Jesse Oaks\, Jesse Oaks\, 18490 W Old Gages Lake Rd\, Gages Lake\, IL\, 60030\, United States
CATEGORIES:Live Music,Public Event
ATTACH;FMTTYPE=image/jpeg:https://www.jesseoaks.com/wp-content/uploads/2026/04/Odd-Root-TV-scaled.jpg
ORGANIZER;CN="Sean Smith":MAILTO:sean@jesseoaks.com
END:VEVENT
BEGIN:VEVENT
DTSTART;TZID=America/Chicago:20260426T133000
DTEND;TZID=America/Chicago:20260426T173000
DTSTAMP:20260425T110906
CREATED:20250408T185212Z
LAST-MODIFIED:20260404T153921Z
UID:23899-1777210200-1777224600@www.jesseoaks.com
SUMMARY:Dave & Taro - An Acoustic Experience
DESCRIPTION:Dave & Taro are bringing the energy to Jesse Oaks \n\n\nLake County’s favorite acoustic duo is back with their crowd-interactive show—get ready to sing along\, laugh\, and kick back in the beer garden.\n\nJoin us for hot meals\, cold beers\, and our signature H.D. Bloody Marys \n\nFree show • All ages welcome • Friendly fur babies welcome \n\nGrab your crew\, claim your spot\, and settle in for a great time under the oaks 
URL:https://www.jesseoaks.com/event-calendar/dave-taro-an-acoustic-experience-3/
LOCATION:Jesse Oaks\, Jesse Oaks\, 18490 W Old Gages Lake Rd\, Gages Lake\, IL\, 60030\, United States
CATEGORIES:Live Music
ATTACH;FMTTYPE=image/jpeg:https://www.jesseoaks.com/wp-content/uploads/2020/01/DaveTaro_logo.jpg
ORGANIZER;CN="Sean Smith":MAILTO:sean@jesseoaks.com
END:VEVENT
END:VCALENDAR